BEGIN:VCALENDAR
VERSION:2.0
PRODID:-//The Sieker Band - ECPv6.15.20//NONSGML v1.0//EN
CALSCALE:GREGORIAN
METHOD:PUBLISH
X-ORIGINAL-URL:https://siekerband.com
X-WR-CALDESC:Events for The Sieker Band
REFRESH-INTERVAL;VALUE=DURATION:PT1H
X-Robots-Tag:noindex
X-PUBLISHED-TTL:PT1H
BEGIN:VTIMEZONE
TZID:America/Chicago
BEGIN:DAYLIGHT
TZOFFSETFROM:-0600
TZOFFSETTO:-0500
TZNAME:CDT
DTSTART:20250309T080000
END:DAYLIGHT
BEGIN:STANDARD
TZOFFSETFROM:-0500
TZOFFSETTO:-0600
TZNAME:CST
DTSTART:20251102T070000
END:STANDARD
BEGIN:DAYLIGHT
TZOFFSETFROM:-0600
TZOFFSETTO:-0500
TZNAME:CDT
DTSTART:20260308T080000
END:DAYLIGHT
BEGIN:STANDARD
TZOFFSETFROM:-0500
TZOFFSETTO:-0600
TZNAME:CST
DTSTART:20261101T070000
END:STANDARD
BEGIN:DAYLIGHT
TZOFFSETFROM:-0600
TZOFFSETTO:-0500
TZNAME:CDT
DTSTART:20270314T080000
END:DAYLIGHT
BEGIN:STANDARD
TZOFFSETFROM:-0500
TZOFFSETTO:-0600
TZNAME:CST
DTSTART:20271107T070000
END:STANDARD
END:VTIMEZONE
BEGIN:VEVENT
DTSTART;TZID=America/Chicago:20260426T100000
DTEND;TZID=America/Chicago:20260426T233000
DTSTAMP:20260424T114525
CREATED:20260220T181710Z
LAST-MODIFIED:20260220T181710Z
UID:22077-1777197600-1777246200@siekerband.com
SUMMARY:Faith Lutheran Church
DESCRIPTION:Seguin\, TX
URL:https://siekerband.com/event/faith-lutheran-church-3/
LOCATION:Faith Lutheran Church\, Seguin\, TX\, United States
END:VEVENT
BEGIN:VEVENT
DTSTART;TZID=America/Chicago:20260524T120000
DTEND;TZID=America/Chicago:20260524T140000
DTSTAMP:20260424T114525
CREATED:20260220T181810Z
LAST-MODIFIED:20260220T181810Z
UID:22079-1779624000-1779631200@siekerband.com
SUMMARY:Dahlia Cafe
DESCRIPTION:Liberty Hill\, TX
URL:https://siekerband.com/event/dahlia-cafe-22/
LOCATION:Dahlia Cafe\, 2450 Ranch Road 1869\, Liberty Hill\, TX\, 78642\, United States
END:VEVENT
BEGIN:VEVENT
DTSTART;TZID=America/Chicago:20260626T183000
DTEND;TZID=America/Chicago:20260626T203000
DTSTAMP:20260424T114525
CREATED:20260220T181948Z
LAST-MODIFIED:20260220T181948Z
UID:22081-1782498600-1782505800@siekerband.com
SUMMARY:Dahlia Cafe
DESCRIPTION:Liberty Hill\, TX
URL:https://siekerband.com/event/dahlia-cafe-23/
LOCATION:Dahlia Cafe\, 2450 Ranch Road 1869\, Liberty Hill\, TX\, 78642\, United States
END:VEVENT
BEGIN:VEVENT
DTSTART;TZID=America/Chicago:20260627T120000
DTEND;TZID=America/Chicago:20260627T150000
DTSTAMP:20260424T114525
CREATED:20260220T182103Z
LAST-MODIFIED:20260220T182103Z
UID:22083-1782561600-1782572400@siekerband.com
SUMMARY:Callahan's General Store
DESCRIPTION:Austin\, TX
URL:https://siekerband.com/event/callahans-general-store-10/
LOCATION:Callahan’s General Store\, Callahan's General Store\, Austin\, TX\, 78741\, United States
END:VEVENT
BEGIN:VEVENT
DTSTART;TZID=America/Chicago:20260726T120000
DTEND;TZID=America/Chicago:20260726T140000
DTSTAMP:20260424T114525
CREATED:20260220T182214Z
LAST-MODIFIED:20260220T182214Z
UID:22085-1785067200-1785074400@siekerband.com
SUMMARY:Dahlia Cafe
DESCRIPTION:Liberty Hill\, TX
URL:https://siekerband.com/event/dahlia-cafe-24/
LOCATION:Dahlia Cafe\, 2450 Ranch Road 1869\, Liberty Hill\, TX\, 78642\, United States
END:VEVENT
BEGIN:VEVENT
DTSTART;TZID=America/Chicago:20260829T183000
DTEND;TZID=America/Chicago:20260829T203000
DTSTAMP:20260424T114525
CREATED:20260220T182313Z
LAST-MODIFIED:20260220T182313Z
UID:22087-1788028200-1788035400@siekerband.com
SUMMARY:Dahlia Cafe
DESCRIPTION:Liberty Hill\, TX
URL:https://siekerband.com/event/dahlia-cafe-25/
LOCATION:Dahlia Cafe\, 2450 Ranch Road 1869\, Liberty Hill\, TX\, 78642\, United States
END:VEVENT
BEGIN:VEVENT
DTSTART;TZID=America/Chicago:20261224T110000
DTEND;TZID=America/Chicago:20261224T140000
DTSTAMP:20260424T114525
CREATED:20260305T013117Z
LAST-MODIFIED:20260305T013117Z
UID:22093-1798110000-1798120800@siekerband.com
SUMMARY:Callahan's General Store
DESCRIPTION:Austin\, TX
URL:https://siekerband.com/event/callahans-general-store-11/
LOCATION:Callahan’s General Store\, Callahan's General Store\, Austin\, TX\, 78741\, United States
END:VEVENT
END:VCALENDAR