BEGIN:VCALENDAR
VERSION:2.0
PRODID:-//The Sieker Band - ECPv6.15.20//NONSGML v1.0//EN
CALSCALE:GREGORIAN
METHOD:PUBLISH
X-WR-CALNAME:The Sieker Band
X-ORIGINAL-URL:https://siekerband.com
X-WR-CALDESC:Events for The Sieker Band
REFRESH-INTERVAL;VALUE=DURATION:PT1H
X-Robots-Tag:noindex
X-PUBLISHED-TTL:PT1H
BEGIN:VTIMEZONE
TZID:America/Chicago
BEGIN:DAYLIGHT
TZOFFSETFROM:-0600
TZOFFSETTO:-0500
TZNAME:CDT
DTSTART:20230312T080000
END:DAYLIGHT
BEGIN:STANDARD
TZOFFSETFROM:-0500
TZOFFSETTO:-0600
TZNAME:CST
DTSTART:20231105T070000
END:STANDARD
BEGIN:DAYLIGHT
TZOFFSETFROM:-0600
TZOFFSETTO:-0500
TZNAME:CDT
DTSTART:20240310T080000
END:DAYLIGHT
BEGIN:STANDARD
TZOFFSETFROM:-0500
TZOFFSETTO:-0600
TZNAME:CST
DTSTART:20241103T070000
END:STANDARD
BEGIN:DAYLIGHT
TZOFFSETFROM:-0600
TZOFFSETTO:-0500
TZNAME:CDT
DTSTART:20250309T080000
END:DAYLIGHT
BEGIN:STANDARD
TZOFFSETFROM:-0500
TZOFFSETTO:-0600
TZNAME:CST
DTSTART:20251102T070000
END:STANDARD
BEGIN:DAYLIGHT
TZOFFSETFROM:-0600
TZOFFSETTO:-0500
TZNAME:CDT
DTSTART:20260308T080000
END:DAYLIGHT
BEGIN:STANDARD
TZOFFSETFROM:-0500
TZOFFSETTO:-0600
TZNAME:CST
DTSTART:20261101T070000
END:STANDARD
END:VTIMEZONE
BEGIN:VEVENT
DTSTART;TZID=America/Chicago:20250921T120000
DTEND;TZID=America/Chicago:20250921T143000
DTSTAMP:20260424T225824
CREATED:20250911T011507Z
LAST-MODIFIED:20250911T011507Z
UID:22034-1758456000-1758465000@siekerband.com
SUMMARY:Dahlia Cafe
DESCRIPTION:Liberty Hill\, TX
URL:https://siekerband.com/event/dahlia-cafe-18/
LOCATION:Dahlia Cafe\, 2450 Ranch Road 1869\, Liberty Hill\, TX\, 78642\, United States
END:VEVENT
BEGIN:VEVENT
DTSTART;TZID=America/Chicago:20250905T183000
DTEND;TZID=America/Chicago:20250905T203000
DTSTAMP:20260424T225824
CREATED:20250725T164829Z
LAST-MODIFIED:20250725T164829Z
UID:21990-1757097000-1757104200@siekerband.com
SUMMARY:Dahlia Cafe
DESCRIPTION:Liberty Hill\, TX
URL:https://siekerband.com/event/dahlia-cafe-15/
LOCATION:Dahlia Cafe\, 2450 Ranch Road 1869\, Liberty Hill\, TX\, 78642\, United States
END:VEVENT
BEGIN:VEVENT
DTSTART;TZID=America/Chicago:20250824T120000
DTEND;TZID=America/Chicago:20250824T140000
DTSTAMP:20260424T225824
CREATED:20250804T170000Z
LAST-MODIFIED:20250804T170000Z
UID:22003-1756036800-1756044000@siekerband.com
SUMMARY:Dahlia Cafe
DESCRIPTION:Libery Hill\, TX
URL:https://siekerband.com/event/dahlia-cafe-17/
LOCATION:Dahlia Cafe\, 2450 Ranch Road 1869\, Liberty Hill\, TX\, 78642\, United States
END:VEVENT
BEGIN:VEVENT
DTSTART;TZID=America/Chicago:20250801T183000
DTEND;TZID=America/Chicago:20250801T203000
DTSTAMP:20260424T225824
CREATED:20250725T164707Z
LAST-MODIFIED:20250725T164707Z
UID:21988-1754073000-1754080200@siekerband.com
SUMMARY:Dahlia Cafe
DESCRIPTION:Liberty Hill\, TX
URL:https://siekerband.com/event/dahlia-cafe-14/
LOCATION:Dahlia Cafe\, 2450 Ranch Road 1869\, Liberty Hill\, TX\, 78642\, United States
END:VEVENT
BEGIN:VEVENT
DTSTART;TZID=America/Chicago:20250628T120000
DTEND;TZID=America/Chicago:20250628T160000
DTSTAMP:20260424T225824
CREATED:20250209T173945Z
LAST-MODIFIED:20250209T173945Z
UID:21963-1751112000-1751126400@siekerband.com
SUMMARY:Callahan's General Store
DESCRIPTION:Austin\, TX
URL:https://siekerband.com/event/callahans-general-store-8/
LOCATION:Callahan’s General Store\, Callahan's General Store\, Austin\, TX\, 78741\, United States
END:VEVENT
BEGIN:VEVENT
DTSTART;TZID=America/Chicago:20250625T190000
DTEND;TZID=America/Chicago:20250625T203000
DTSTAMP:20260424T225824
CREATED:20240311T225747Z
LAST-MODIFIED:20240311T225747Z
UID:21875-1750878000-1750883400@siekerband.com
SUMMARY:Sun City\, TX
DESCRIPTION:Georgetown\, Texas \n(The Retreat)
URL:https://siekerband.com/event/sun-city-tx/
LOCATION:Sun City The Retreat\, 1220 Cattleman Drive\, Georgetown\, TX\, 78633\, United States
END:VEVENT
BEGIN:VEVENT
DTSTART;TZID=America/Chicago:20250511T120000
DTEND;TZID=America/Chicago:20250511T143000
DTSTAMP:20260424T225824
CREATED:20250209T173157Z
LAST-MODIFIED:20250209T173157Z
UID:21961-1746964800-1746973800@siekerband.com
SUMMARY:Central Market West Gate
DESCRIPTION:Austin\, TX
URL:https://siekerband.com/event/central-market-west-gate-2/
LOCATION:Central Market Westgate\, Austin\, TX\, United States
END:VEVENT
BEGIN:VEVENT
DTSTART;TZID=America/Chicago:20250427T124500
DTEND;TZID=America/Chicago:20250427T134500
DTSTAMP:20260424T225824
CREATED:20250209T173007Z
LAST-MODIFIED:20250209T173007Z
UID:21959-1745757900-1745761500@siekerband.com
SUMMARY:Red Poppy Festival
DESCRIPTION:Georgetown\, TX
URL:https://siekerband.com/event/red-poppy-festival-2/
LOCATION:Red Poppy Festival\, Georgetown\, TX\, United States
END:VEVENT
BEGIN:VEVENT
DTSTART;TZID=America/Chicago:20250323T100000
DTEND;TZID=America/Chicago:20250323T120000
DTSTAMP:20260424T225824
CREATED:20250209T172612Z
LAST-MODIFIED:20250209T172707Z
UID:21956-1742724000-1742731200@siekerband.com
SUMMARY:Faith Lutheran Church
DESCRIPTION:Seguin\, TX
URL:https://siekerband.com/event/faith-lutheran-church-2/
LOCATION:Faith Lutheran Church\, Seguin\, TX\, United States
END:VEVENT
BEGIN:VEVENT
DTSTART;TZID=America/Chicago:20250221T190000
DTEND;TZID=America/Chicago:20250221T220000
DTSTAMP:20260424T225824
CREATED:20250209T172341Z
LAST-MODIFIED:20250209T172341Z
UID:21954-1740164400-1740175200@siekerband.com
SUMMARY:Swan Songs Fundraising Event
DESCRIPTION:Oak Hill United Methodist Church Listening Room \nAustin\, TX
URL:https://siekerband.com/event/swan-songs-fundraising-event/
LOCATION:TX
END:VEVENT
BEGIN:VEVENT
DTSTART;TZID=America/Chicago:20241224T110000
DTEND;TZID=America/Chicago:20241224T140000
DTSTAMP:20260424T225824
CREATED:20231128T182204Z
LAST-MODIFIED:20231128T182204Z
UID:21825-1735038000-1735048800@siekerband.com
SUMMARY:Callahan's General Store
DESCRIPTION:Austin\, TX
URL:https://siekerband.com/event/callahans-general-store-6/
LOCATION:Callahan’s General Store
END:VEVENT
BEGIN:VEVENT
DTSTART;TZID=America/Chicago:20241117T110000
DTEND;TZID=America/Chicago:20241117T160000
DTSTAMP:20260424T225824
CREATED:20241012T155820Z
LAST-MODIFIED:20241012T155820Z
UID:21930-1731841200-1731859200@siekerband.com
SUMMARY:Release Party
DESCRIPTION:Johnson City\, TX
URL:https://siekerband.com/event/release-party/
LOCATION:TX
END:VEVENT
BEGIN:VEVENT
DTSTART;TZID=America/Chicago:20241101T120000
DTEND;TZID=America/Chicago:20241101T143000
DTSTAMP:20260424T225824
CREATED:20241012T160000Z
LAST-MODIFIED:20241012T160000Z
UID:21932-1730462400-1730471400@siekerband.com
SUMMARY:Central Market Westgate
DESCRIPTION:Austin\, TX
URL:https://siekerband.com/event/central-market-westgate-5/
LOCATION:Central Market Westgate\, 4477 South Lamar Blvd\, Austin\, TX\, 78745\, United States
END:VEVENT
BEGIN:VEVENT
DTSTART;TZID=America/Chicago:20241018T183000
DTEND;TZID=America/Chicago:20241018T203000
DTSTAMP:20260424T225824
CREATED:20240205T225716Z
LAST-MODIFIED:20240205T225716Z
UID:21862-1729276200-1729283400@siekerband.com
SUMMARY:Dahlia Cafe
DESCRIPTION:Liberty Hill\, TX
URL:https://siekerband.com/event/dahlia-cafe-13/
LOCATION:Dahlia Cafe\, 2450 Ranch Road 1869\, Liberty Hill\, TX\, 78642\, United States
END:VEVENT
BEGIN:VEVENT
DTSTART;TZID=America/Chicago:20241012T183000
DTEND;TZID=America/Chicago:20241012T203000
DTSTAMP:20260424T225824
CREATED:20240815T135509Z
LAST-MODIFIED:20240815T135509Z
UID:21907-1728757800-1728765000@siekerband.com
SUMMARY:House Concert
DESCRIPTION:Liberty Hill\, TX
URL:https://siekerband.com/event/house-concert/
LOCATION:TX
END:VEVENT
BEGIN:VEVENT
DTSTART;TZID=America/Chicago:20241003T113000
DTEND;TZID=America/Chicago:20241003T130000
DTSTAMP:20260424T225824
CREATED:20240815T173220Z
LAST-MODIFIED:20240815T173220Z
UID:21909-1727955000-1727960400@siekerband.com
SUMMARY:Hometown Parklet Show
DESCRIPTION:Fall Parklet Series in Downtown Round Rock\, TX
URL:https://siekerband.com/event/hometown-parklet-show/
LOCATION:Round Rock Parklets\, Main Street\, Round Rock\, TX\, United States
END:VEVENT
BEGIN:VEVENT
DTSTART;TZID=America/Chicago:20240921T120000
DTEND;TZID=America/Chicago:20240921T160000
DTSTAMP:20260424T225824
CREATED:20240914T132411Z
LAST-MODIFIED:20240914T132411Z
UID:21921-1726920000-1726934400@siekerband.com
SUMMARY:Callahan's General Store
DESCRIPTION:Austin\, TX
URL:https://siekerband.com/event/callahans-general-store-7/
LOCATION:Callahan’s General Store\, Callahan's General Store\, Austin\, TX\, 78741\, United States
END:VEVENT
BEGIN:VEVENT
DTSTART;TZID=America/Chicago:20240920T190000
DTEND;TZID=America/Chicago:20240920T210000
DTSTAMP:20260424T225824
CREATED:20240914T132216Z
LAST-MODIFIED:20240914T132216Z
UID:21918-1726858800-1726866000@siekerband.com
SUMMARY:Gatesville Country Music Hall Of Fame
DESCRIPTION:Gatesville Opry\, TX
URL:https://siekerband.com/event/gatesville-country-music-hall-of-fame/
LOCATION:Gatesville Opry\, 110 N 8th St.\, Gatesville\, TX\, 76528\, United States
END:VEVENT
BEGIN:VEVENT
DTSTART;TZID=America/Chicago:20240915T100000
DTEND;TZID=America/Chicago:20240915T130000
DTSTAMP:20260424T225824
CREATED:20231128T182050Z
LAST-MODIFIED:20231128T182050Z
UID:21823-1726394400-1726405200@siekerband.com
SUMMARY:Round Rock Car Show
DESCRIPTION:Round Rock\, TX
URL:https://siekerband.com/event/round-rock-car-show-2/
LOCATION:RRPD Car Show\, Old Settlers Park\, Round Rock\, TX\, United States
END:VEVENT
BEGIN:VEVENT
DTSTART;TZID=America/Chicago:20240831T183000
DTEND;TZID=America/Chicago:20240831T203000
DTSTAMP:20260424T225824
CREATED:20240205T225539Z
LAST-MODIFIED:20240205T225539Z
UID:21860-1725129000-1725136200@siekerband.com
SUMMARY:Dahlia Cafe
DESCRIPTION:Liberty Hill\, TX
URL:https://siekerband.com/event/dahlia-cafe-12/
LOCATION:Dahlia Cafe\, 2450 Ranch Road 1869\, Liberty Hill\, TX\, 78642\, United States
END:VEVENT
BEGIN:VEVENT
DTSTART;TZID=America/Chicago:20240811T120000
DTEND;TZID=America/Chicago:20240811T143000
DTSTAMP:20260424T225824
CREATED:20240731T144832Z
LAST-MODIFIED:20240731T144832Z
UID:21902-1723377600-1723386600@siekerband.com
SUMMARY:Central Market Westgate
DESCRIPTION:Austin\, TX
URL:https://siekerband.com/event/central-market-westgate-4/
LOCATION:Central Market Westgate\, Austin\, TX\, United States
END:VEVENT
BEGIN:VEVENT
DTSTART;TZID=America/Chicago:20240713T120000
DTEND;TZID=America/Chicago:20240713T160000
DTSTAMP:20260424T225824
CREATED:20231128T181900Z
LAST-MODIFIED:20231128T181900Z
UID:21821-1720872000-1720886400@siekerband.com
SUMMARY:Callahan's General Store
DESCRIPTION:Austin\, TX
URL:https://siekerband.com/event/callahans-general-store-5/
LOCATION:Callahan’s General Store
END:VEVENT
BEGIN:VEVENT
DTSTART;TZID=America/Chicago:20240607T183000
DTEND;TZID=America/Chicago:20240607T203000
DTSTAMP:20260424T225824
CREATED:20240205T225430Z
LAST-MODIFIED:20240205T225430Z
UID:21858-1717785000-1717792200@siekerband.com
SUMMARY:Dahlia Cafe
DESCRIPTION:Liberty Hill\, TX
URL:https://siekerband.com/event/dahlia-cafe-11/
LOCATION:Dahlia Cafe\, 2450 Ranch Road 1869\, Liberty Hill\, TX\, 78642\, United States
END:VEVENT
BEGIN:VEVENT
DTSTART;TZID=America/Chicago:20240508T170000
DTEND;TZID=America/Chicago:20240508T190000
DTSTAMP:20260424T225824
CREATED:20240416T131411Z
LAST-MODIFIED:20240416T131411Z
UID:21890-1715187600-1715194800@siekerband.com
SUMMARY:Austin Club
DESCRIPTION:Austin\, TX
URL:https://siekerband.com/event/austin-club-3/
LOCATION:Austin Club\, 110 East 9th Street\, Austin\, TX\, 78701\, United States
END:VEVENT
BEGIN:VEVENT
DTSTART;TZID=America/Chicago:20240427T023000
DTEND;TZID=America/Chicago:20240427T153000
DTSTAMP:20260424T225824
CREATED:20240206T210145Z
LAST-MODIFIED:20240206T210145Z
UID:21868-1714185000-1714231800@siekerband.com
SUMMARY:Red Poppy Festival
DESCRIPTION:Georgetown\, TX
URL:https://siekerband.com/event/red-poppy-festival/
LOCATION:Red Poppy Festival\, Georgetown\, TX\, United States
END:VEVENT
BEGIN:VEVENT
DTSTART;TZID=America/Chicago:20240420T143000
DTEND;TZID=America/Chicago:20240420T163000
DTSTAMP:20260424T225824
CREATED:20240206T210015Z
LAST-MODIFIED:20240206T210015Z
UID:21866-1713623400-1713630600@siekerband.com
SUMMARY:House Party
DESCRIPTION:Austin\, TX
URL:https://siekerband.com/event/house-party-2/
LOCATION:House Party
END:VEVENT
BEGIN:VEVENT
DTSTART;TZID=America/Chicago:20240414T120000
DTEND;TZID=America/Chicago:20240414T143000
DTSTAMP:20260424T225824
CREATED:20240206T205835Z
LAST-MODIFIED:20240206T205835Z
UID:21864-1713096000-1713105000@siekerband.com
SUMMARY:Central Market West Gate
DESCRIPTION:Austin\, TX
URL:https://siekerband.com/event/central-market-west-gate/
LOCATION:Central Market Westgate\, 4477 South Lamar Blvd\, Austin\, TX\, 78745\, United States
END:VEVENT
BEGIN:VEVENT
DTSTART;TZID=America/Chicago:20240412T183000
DTEND;TZID=America/Chicago:20240412T203000
DTSTAMP:20260424T225824
CREATED:20240205T225251Z
LAST-MODIFIED:20240205T225251Z
UID:21856-1712946600-1712953800@siekerband.com
SUMMARY:Dahlia Cafe
DESCRIPTION:Liberty Hill\, TX
URL:https://siekerband.com/event/dahlia-cafe-10/
LOCATION:Dahlia Cafe\, 2450 Ranch Road 1869\, Liberty Hill\, TX\, 78642\, United States
END:VEVENT
BEGIN:VEVENT
DTSTART;TZID=America/Chicago:20240408T150000
DTEND;TZID=America/Chicago:20240408T173000
DTSTAMP:20260424T225824
CREATED:20231128T181741Z
LAST-MODIFIED:20231128T181741Z
UID:21818-1712588400-1712597400@siekerband.com
SUMMARY:House Party
DESCRIPTION:Spicewood\, TX
URL:https://siekerband.com/event/house-party/
LOCATION:House Party
END:VEVENT
BEGIN:VEVENT
DTSTART;TZID=America/Chicago:20240330T120000
DTEND;TZID=America/Chicago:20240330T150000
DTSTAMP:20260424T225824
CREATED:20240321T201342Z
LAST-MODIFIED:20240321T201342Z
UID:21884-1711800000-1711810800@siekerband.com
SUMMARY:Barton Creek Golf Course
DESCRIPTION:Austin\, TX
URL:https://siekerband.com/event/barton-creek-golf-course-2/
LOCATION:Barton Creek Golf Course
END:VEVENT
END:VCALENDAR