BEGIN:VCALENDAR
VERSION:2.0
PRODID:-//The Sieker Band - ECPv6.15.20//NONSGML v1.0//EN
CALSCALE:GREGORIAN
METHOD:PUBLISH
X-WR-CALNAME:The Sieker Band
X-ORIGINAL-URL:https://siekerband.com
X-WR-CALDESC:Events for The Sieker Band
REFRESH-INTERVAL;VALUE=DURATION:PT1H
X-Robots-Tag:noindex
X-PUBLISHED-TTL:PT1H
BEGIN:VTIMEZONE
TZID:America/Chicago
BEGIN:DAYLIGHT
TZOFFSETFROM:-0600
TZOFFSETTO:-0500
TZNAME:CDT
DTSTART:20220313T080000
END:DAYLIGHT
BEGIN:STANDARD
TZOFFSETFROM:-0500
TZOFFSETTO:-0600
TZNAME:CST
DTSTART:20221106T070000
END:STANDARD
BEGIN:DAYLIGHT
TZOFFSETFROM:-0600
TZOFFSETTO:-0500
TZNAME:CDT
DTSTART:20230312T080000
END:DAYLIGHT
BEGIN:STANDARD
TZOFFSETFROM:-0500
TZOFFSETTO:-0600
TZNAME:CST
DTSTART:20231105T070000
END:STANDARD
BEGIN:DAYLIGHT
TZOFFSETFROM:-0600
TZOFFSETTO:-0500
TZNAME:CDT
DTSTART:20240310T080000
END:DAYLIGHT
BEGIN:STANDARD
TZOFFSETFROM:-0500
TZOFFSETTO:-0600
TZNAME:CST
DTSTART:20241103T070000
END:STANDARD
BEGIN:DAYLIGHT
TZOFFSETFROM:-0600
TZOFFSETTO:-0500
TZNAME:CDT
DTSTART:20250309T080000
END:DAYLIGHT
BEGIN:STANDARD
TZOFFSETFROM:-0500
TZOFFSETTO:-0600
TZNAME:CST
DTSTART:20251102T070000
END:STANDARD
END:VTIMEZONE
BEGIN:VEVENT
DTSTART;TZID=America/Chicago:20240607T183000
DTEND;TZID=America/Chicago:20240607T203000
DTSTAMP:20260424T225814
CREATED:20240205T225430Z
LAST-MODIFIED:20240205T225430Z
UID:21858-1717785000-1717792200@siekerband.com
SUMMARY:Dahlia Cafe
DESCRIPTION:Liberty Hill\, TX
URL:https://siekerband.com/event/dahlia-cafe-11/
LOCATION:Dahlia Cafe\, 2450 Ranch Road 1869\, Liberty Hill\, TX\, 78642\, United States
END:VEVENT
BEGIN:VEVENT
DTSTART;TZID=America/Chicago:20240508T170000
DTEND;TZID=America/Chicago:20240508T190000
DTSTAMP:20260424T225814
CREATED:20240416T131411Z
LAST-MODIFIED:20240416T131411Z
UID:21890-1715187600-1715194800@siekerband.com
SUMMARY:Austin Club
DESCRIPTION:Austin\, TX
URL:https://siekerband.com/event/austin-club-3/
LOCATION:Austin Club\, 110 East 9th Street\, Austin\, TX\, 78701\, United States
END:VEVENT
BEGIN:VEVENT
DTSTART;TZID=America/Chicago:20240427T023000
DTEND;TZID=America/Chicago:20240427T153000
DTSTAMP:20260424T225814
CREATED:20240206T210145Z
LAST-MODIFIED:20240206T210145Z
UID:21868-1714185000-1714231800@siekerband.com
SUMMARY:Red Poppy Festival
DESCRIPTION:Georgetown\, TX
URL:https://siekerband.com/event/red-poppy-festival/
LOCATION:Red Poppy Festival\, Georgetown\, TX\, United States
END:VEVENT
BEGIN:VEVENT
DTSTART;TZID=America/Chicago:20240420T143000
DTEND;TZID=America/Chicago:20240420T163000
DTSTAMP:20260424T225814
CREATED:20240206T210015Z
LAST-MODIFIED:20240206T210015Z
UID:21866-1713623400-1713630600@siekerband.com
SUMMARY:House Party
DESCRIPTION:Austin\, TX
URL:https://siekerband.com/event/house-party-2/
LOCATION:House Party
END:VEVENT
BEGIN:VEVENT
DTSTART;TZID=America/Chicago:20240414T120000
DTEND;TZID=America/Chicago:20240414T143000
DTSTAMP:20260424T225814
CREATED:20240206T205835Z
LAST-MODIFIED:20240206T205835Z
UID:21864-1713096000-1713105000@siekerband.com
SUMMARY:Central Market West Gate
DESCRIPTION:Austin\, TX
URL:https://siekerband.com/event/central-market-west-gate/
LOCATION:Central Market Westgate\, 4477 South Lamar Blvd\, Austin\, TX\, 78745\, United States
END:VEVENT
BEGIN:VEVENT
DTSTART;TZID=America/Chicago:20240412T183000
DTEND;TZID=America/Chicago:20240412T203000
DTSTAMP:20260424T225814
CREATED:20240205T225251Z
LAST-MODIFIED:20240205T225251Z
UID:21856-1712946600-1712953800@siekerband.com
SUMMARY:Dahlia Cafe
DESCRIPTION:Liberty Hill\, TX
URL:https://siekerband.com/event/dahlia-cafe-10/
LOCATION:Dahlia Cafe\, 2450 Ranch Road 1869\, Liberty Hill\, TX\, 78642\, United States
END:VEVENT
BEGIN:VEVENT
DTSTART;TZID=America/Chicago:20240408T150000
DTEND;TZID=America/Chicago:20240408T173000
DTSTAMP:20260424T225814
CREATED:20231128T181741Z
LAST-MODIFIED:20231128T181741Z
UID:21818-1712588400-1712597400@siekerband.com
SUMMARY:House Party
DESCRIPTION:Spicewood\, TX
URL:https://siekerband.com/event/house-party/
LOCATION:House Party
END:VEVENT
BEGIN:VEVENT
DTSTART;TZID=America/Chicago:20240330T120000
DTEND;TZID=America/Chicago:20240330T150000
DTSTAMP:20260424T225814
CREATED:20240321T201342Z
LAST-MODIFIED:20240321T201342Z
UID:21884-1711800000-1711810800@siekerband.com
SUMMARY:Barton Creek Golf Course
DESCRIPTION:Austin\, TX
URL:https://siekerband.com/event/barton-creek-golf-course-2/
LOCATION:Barton Creek Golf Course
END:VEVENT
BEGIN:VEVENT
DTSTART;TZID=America/Chicago:20231224T110000
DTEND;TZID=America/Chicago:20231224T140000
DTSTAMP:20260424T225814
CREATED:20230103T161640Z
LAST-MODIFIED:20230103T161640Z
UID:21723-1703415600-1703426400@siekerband.com
SUMMARY:Callahan's General Store
DESCRIPTION:Austin\, TX
URL:https://siekerband.com/event/callahans-general-store-3/
LOCATION:Callahan’s General Store\, Callahan's General Store\, Austin\, TX\, 78741\, United States
END:VEVENT
BEGIN:VEVENT
DTSTART;TZID=America/Chicago:20231130T180000
DTEND;TZID=America/Chicago:20231130T193000
DTSTAMP:20260424T225814
CREATED:20231128T181350Z
LAST-MODIFIED:20231128T181350Z
UID:21815-1701367200-1701372600@siekerband.com
SUMMARY:Round Rock Hometown Holiday
DESCRIPTION:Round Rock\, TX
URL:https://siekerband.com/event/round-rock-hometown-holiday/
LOCATION:Round Rock Parklets\, Main Street\, Round Rock\, TX\, United States
END:VEVENT
BEGIN:VEVENT
DTSTART;TZID=America/Chicago:20231111T110000
DTEND;TZID=America/Chicago:20231111T130000
DTSTAMP:20260424T225814
CREATED:20230816T190839Z
LAST-MODIFIED:20230816T190839Z
UID:21792-1699700400-1699707600@siekerband.com
SUMMARY:Alumni Event
DESCRIPTION:The Arbor Alumni Reunion\, Georgetown\, TX
URL:https://siekerband.com/event/alumni-event/
LOCATION:The Arbor\, Georgetown\, TX\, Georgetown\, TX\, United States
END:VEVENT
BEGIN:VEVENT
DTSTART;TZID=America/Chicago:20231005T113000
DTEND;TZID=America/Chicago:20231005T130000
DTSTAMP:20260424T225814
CREATED:20230816T191916Z
LAST-MODIFIED:20230816T191916Z
UID:21803-1696505400-1696510800@siekerband.com
SUMMARY:Fall Parklet Lunchtime Series
DESCRIPTION:Round Rock\, TX \n@ Round Rock Library
URL:https://siekerband.com/event/fall-parklet-lunchtime-series/
LOCATION:Round Rock Parklets\, Main Street\, Round Rock\, TX\, United States
END:VEVENT
BEGIN:VEVENT
DTSTART;TZID=America/Chicago:20230924T120000
DTEND;TZID=America/Chicago:20230924T143000
DTSTAMP:20260424T225814
CREATED:20230816T191522Z
LAST-MODIFIED:20230816T191522Z
UID:21801-1695556800-1695565800@siekerband.com
SUMMARY:Central Market Westgate
DESCRIPTION:Central Market Westgate
URL:https://siekerband.com/event/central-market-westgate-3/
LOCATION:Central Market Westgate\, 4477 South Lamar Blvd\, Austin\, TX\, 78745\, United States
END:VEVENT
BEGIN:VEVENT
DTSTART;TZID=America/Chicago:20230917T140000
DTEND;TZID=America/Chicago:20230917T153000
DTSTAMP:20260424T225814
CREATED:20230120T235120Z
LAST-MODIFIED:20230120T235120Z
UID:21754-1694959200-1694964600@siekerband.com
SUMMARY:Georgetown Library
DESCRIPTION:Georgetown\, TX
URL:https://siekerband.com/event/georgetown-library/
LOCATION:Georgetown Library\, Georgetown\, TX\, United States
END:VEVENT
BEGIN:VEVENT
DTSTART;TZID=America/Chicago:20230915T183000
DTEND;TZID=America/Chicago:20230915T203000
DTSTAMP:20260424T225814
CREATED:20230114T162712Z
LAST-MODIFIED:20230114T162712Z
UID:21749-1694802600-1694809800@siekerband.com
SUMMARY:Dahlia Cafe
DESCRIPTION:Liberty Hill\, TX
URL:https://siekerband.com/event/dahlia-cafe-9/
LOCATION:Dahlia Cafe\, 2450 Ranch Road 1869\, Liberty Hill\, TX\, 78642\, United States
END:VEVENT
BEGIN:VEVENT
DTSTART;TZID=America/Chicago:20230913T180000
DTEND;TZID=America/Chicago:20230913T200000
DTSTAMP:20260424T225814
CREATED:20230816T191150Z
LAST-MODIFIED:20230816T191150Z
UID:21795-1694628000-1694635200@siekerband.com
SUMMARY:Vital Farms
DESCRIPTION:Austin\, TX
URL:https://siekerband.com/event/vital-farms/
LOCATION:Vital Farms\, Austin\, TX\, United States
END:VEVENT
BEGIN:VEVENT
DTSTART;TZID=America/Chicago:20230812T120000
DTEND;TZID=America/Chicago:20230812T160000
DTSTAMP:20260424T225814
CREATED:20230103T161420Z
LAST-MODIFIED:20230103T161420Z
UID:21721-1691841600-1691856000@siekerband.com
SUMMARY:Callahan's General Store
DESCRIPTION:Austin\, TX
URL:https://siekerband.com/event/callahans-general-store/
LOCATION:Callahan’s General Store
END:VEVENT
BEGIN:VEVENT
DTSTART;TZID=America/Chicago:20230707T183000
DTEND;TZID=America/Chicago:20230707T203000
DTSTAMP:20260424T225814
CREATED:20230114T162606Z
LAST-MODIFIED:20230114T162606Z
UID:21747-1688754600-1688761800@siekerband.com
SUMMARY:Dahlia Cafe
DESCRIPTION:Liberty Hill\, TX
URL:https://siekerband.com/event/dahlia-cafe-8/
LOCATION:Dahlia Cafe\, 2450 Ranch Road 1869\, Liberty Hill\, TX\, 78642\, United States
END:VEVENT
BEGIN:VEVENT
DTSTART;TZID=America/Chicago:20230614T190000
DTEND;TZID=America/Chicago:20230614T203000
DTSTAMP:20260424T225814
CREATED:20230120T234802Z
LAST-MODIFIED:20230120T234802Z
UID:21751-1686769200-1686774600@siekerband.com
SUMMARY:Sun City Retreat Center
DESCRIPTION:Georgetown\, TX
URL:https://siekerband.com/event/sun-city-retreat-center/
LOCATION:Sun City Retreat Center
END:VEVENT
BEGIN:VEVENT
DTSTART;TZID=America/Chicago:20230609T183000
DTEND;TZID=America/Chicago:20230609T203000
DTSTAMP:20260424T225814
CREATED:20230114T162502Z
LAST-MODIFIED:20230114T162502Z
UID:21745-1686335400-1686342600@siekerband.com
SUMMARY:Dahlia Cafe
DESCRIPTION:Liberty Hill\, TX
URL:https://siekerband.com/event/dahlia-cafe-7/
LOCATION:Dahlia Cafe\, 2450 Ranch Road 1869\, Liberty Hill\, TX\, 78642\, United States
END:VEVENT
BEGIN:VEVENT
DTSTART;TZID=America/Chicago:20230604T120000
DTEND;TZID=America/Chicago:20230604T143000
DTSTAMP:20260424T225814
CREATED:20230331T172618Z
LAST-MODIFIED:20230331T172618Z
UID:21766-1685880000-1685889000@siekerband.com
SUMMARY:Central Market Westgate
DESCRIPTION:Austin\, TX
URL:https://siekerband.com/event/central-market-westgate-2/
LOCATION:Central Market Westgate\, 4477 South Lamar Blvd\, Austin\, TX\, 78745\, United States
END:VEVENT
BEGIN:VEVENT
DTSTART;TZID=America/Chicago:20230521T100000
DTEND;TZID=America/Chicago:20230521T113000
DTSTAMP:20260424T225814
CREATED:20230419T222642Z
LAST-MODIFIED:20230419T222854Z
UID:21773-1684663200-1684668600@siekerband.com
SUMMARY:Faith Lutheran Church
DESCRIPTION:Seguin\, TX
URL:https://siekerband.com/event/faith-lutheran-church/
LOCATION:Faith Lutheran Church\, Seguin\, TX\, United States
END:VEVENT
BEGIN:VEVENT
DTSTART;TZID=America/Chicago:20230512T183000
DTEND;TZID=America/Chicago:20230512T203000
DTSTAMP:20260424T225814
CREATED:20230114T162411Z
LAST-MODIFIED:20230114T162411Z
UID:21743-1683916200-1683923400@siekerband.com
SUMMARY:Dahlia Cafe
DESCRIPTION:Liberty Hill\, TX
URL:https://siekerband.com/event/dahlia-cafe-6/
LOCATION:Dahlia Cafe\, 2450 Ranch Road 1869\, Liberty Hill\, TX\, 78642\, United States
END:VEVENT
BEGIN:VEVENT
DTSTART;TZID=America/Chicago:20230509T063000
DTEND;TZID=America/Chicago:20230509T203000
DTSTAMP:20260424T225814
CREATED:20230417T175756Z
LAST-MODIFIED:20230417T175756Z
UID:21771-1683613800-1683664200@siekerband.com
SUMMARY:Austin Club
DESCRIPTION:Austin\, TX
URL:https://siekerband.com/event/austin-club-2/
LOCATION:Austin Club
END:VEVENT
BEGIN:VEVENT
DTSTART;TZID=America/Chicago:20230421T183000
DTEND;TZID=America/Chicago:20230421T203000
DTSTAMP:20260424T225814
CREATED:20230114T162322Z
LAST-MODIFIED:20230114T162322Z
UID:21741-1682101800-1682109000@siekerband.com
SUMMARY:Dahlia Cafe
DESCRIPTION:Liberty Hill\, TX
URL:https://siekerband.com/event/dahlia-cafe-5/
LOCATION:Dahlia Cafe\, 2450 Ranch Road 1869\, Liberty Hill\, TX\, 78642\, United States
END:VEVENT
BEGIN:VEVENT
DTSTART;TZID=America/Chicago:20230411T113000
DTEND;TZID=America/Chicago:20230411T130000
DTSTAMP:20260424T225814
CREATED:20230211T150826Z
LAST-MODIFIED:20230211T150826Z
UID:21758-1681212600-1681218000@siekerband.com
SUMMARY:Round Rock Parklets
DESCRIPTION:downtown Round Rock\, TX
URL:https://siekerband.com/event/round-rock-parklets/
LOCATION:Round Rock Parklets\, Main Street\, Round Rock\, TX\, United States
END:VEVENT
BEGIN:VEVENT
DTSTART;TZID=America/Chicago:20230408T120000
DTEND;TZID=America/Chicago:20230408T150000
DTSTAMP:20260424T225814
CREATED:20230103T161237Z
LAST-MODIFIED:20230103T161237Z
UID:21719-1680955200-1680966000@siekerband.com
SUMMARY:Barton Creek Golf Course
DESCRIPTION:Austin\, TX
URL:https://siekerband.com/event/barton-creek-golf-course/
LOCATION:Barton Creek Golf Club\, 8212 Barton Club Drive\, Austin\, TX\, 78735\, United States
END:VEVENT
BEGIN:VEVENT
DTSTART;TZID=America/Chicago:20230331T183000
DTEND;TZID=America/Chicago:20230331T203000
DTSTAMP:20260424T225814
CREATED:20230114T162153Z
LAST-MODIFIED:20230114T162153Z
UID:21739-1680287400-1680294600@siekerband.com
SUMMARY:Dahlia Cafe
DESCRIPTION:Liberty Hill\, TX
URL:https://siekerband.com/event/dahlia-cafe-4/
LOCATION:Dahlia Cafe\, 2450 Ranch Road 1869\, Liberty Hill\, TX\, 78642\, United States
END:VEVENT
BEGIN:VEVENT
DTSTART;TZID=America/Chicago:20230323T164500
DTEND;TZID=America/Chicago:20230323T180000
DTSTAMP:20260424T225814
CREATED:20230322T155237Z
LAST-MODIFIED:20230322T155237Z
UID:21761-1679589900-1679594400@siekerband.com
SUMMARY:UT Brackenridge promo event
DESCRIPTION:Austin\, TX
URL:https://siekerband.com/event/ut-brackenridge-promo-event/
LOCATION:UT Brackenridge Student Apartments\, Austin\, TX\, United States
END:VEVENT
BEGIN:VEVENT
DTSTART;TZID=America/Chicago:20230219T183000
DTEND;TZID=America/Chicago:20230219T193000
DTSTAMP:20260424T225814
CREATED:20230114T162042Z
LAST-MODIFIED:20230114T162042Z
UID:21736-1676831400-1676835000@siekerband.com
SUMMARY:Marriott Hotel
DESCRIPTION:Austin\, TX
URL:https://siekerband.com/event/marriott-hotel/
LOCATION:Marriott Hotel
END:VEVENT
END:VCALENDAR