BEGIN:VCALENDAR
VERSION:2.0
PRODID:-//The Sieker Band - ECPv6.15.20//NONSGML v1.0//EN
CALSCALE:GREGORIAN
METHOD:PUBLISH
X-WR-CALNAME:The Sieker Band
X-ORIGINAL-URL:https://siekerband.com
X-WR-CALDESC:Events for The Sieker Band
REFRESH-INTERVAL;VALUE=DURATION:PT1H
X-Robots-Tag:noindex
X-PUBLISHED-TTL:PT1H
BEGIN:VTIMEZONE
TZID:America/Chicago
BEGIN:DAYLIGHT
TZOFFSETFROM:-0600
TZOFFSETTO:-0500
TZNAME:CDT
DTSTART:20240310T080000
END:DAYLIGHT
BEGIN:STANDARD
TZOFFSETFROM:-0500
TZOFFSETTO:-0600
TZNAME:CST
DTSTART:20241103T070000
END:STANDARD
BEGIN:DAYLIGHT
TZOFFSETFROM:-0600
TZOFFSETTO:-0500
TZNAME:CDT
DTSTART:20250309T080000
END:DAYLIGHT
BEGIN:STANDARD
TZOFFSETFROM:-0500
TZOFFSETTO:-0600
TZNAME:CST
DTSTART:20251102T070000
END:STANDARD
BEGIN:DAYLIGHT
TZOFFSETFROM:-0600
TZOFFSETTO:-0500
TZNAME:CDT
DTSTART:20260308T080000
END:DAYLIGHT
BEGIN:STANDARD
TZOFFSETFROM:-0500
TZOFFSETTO:-0600
TZNAME:CST
DTSTART:20261101T070000
END:STANDARD
END:VTIMEZONE
BEGIN:VEVENT
DTSTART;TZID=America/Chicago:20251224T110000
DTEND;TZID=America/Chicago:20251224T140000
DTSTAMP:20260424T152430
CREATED:20250209T174101Z
LAST-MODIFIED:20250209T174101Z
UID:21965-1766574000-1766584800@siekerband.com
SUMMARY:Callahan's General Store
DESCRIPTION:Austin\, TX
URL:https://siekerband.com/event/callahans-general-store-9/
LOCATION:Callahan’s General Store\, Callahan's General Store\, Austin\, TX\, 78741\, United States
END:VEVENT
END:VCALENDAR